BEGIN:VCALENDAR
VERSION:2.0
PRODID:-//NC Coalition for Alternatives to the Death Penalty - ECPv6.15.20//NONSGML v1.0//EN
CALSCALE:GREGORIAN
METHOD:PUBLISH
X-ORIGINAL-URL:https://nccadp.org
X-WR-CALDESC:Events for NC Coalition for Alternatives to the Death Penalty
REFRESH-INTERVAL;VALUE=DURATION:PT1H
X-Robots-Tag:noindex
X-PUBLISHED-TTL:PT1H
BEGIN:VTIMEZONE
TZID:America/New_York
BEGIN:DAYLIGHT
TZOFFSETFROM:-0500
TZOFFSETTO:-0400
TZNAME:EDT
DTSTART:20230312T070000
END:DAYLIGHT
BEGIN:STANDARD
TZOFFSETFROM:-0400
TZOFFSETTO:-0500
TZNAME:EST
DTSTART:20231105T060000
END:STANDARD
BEGIN:DAYLIGHT
TZOFFSETFROM:-0500
TZOFFSETTO:-0400
TZNAME:EDT
DTSTART:20240310T070000
END:DAYLIGHT
BEGIN:STANDARD
TZOFFSETFROM:-0400
TZOFFSETTO:-0500
TZNAME:EST
DTSTART:20241103T060000
END:STANDARD
BEGIN:DAYLIGHT
TZOFFSETFROM:-0500
TZOFFSETTO:-0400
TZNAME:EDT
DTSTART:20250309T070000
END:DAYLIGHT
BEGIN:STANDARD
TZOFFSETFROM:-0400
TZOFFSETTO:-0500
TZNAME:EST
DTSTART:20251102T060000
END:STANDARD
END:VTIMEZONE
BEGIN:VEVENT
DTSTART;TZID=America/New_York:20241010T190000
DTEND;TZID=America/New_York:20241010T203000
DTSTAMP:20260420T055445
CREATED:20240910T155035Z
LAST-MODIFIED:20241007T124428Z
UID:10000196-1728586800-1728592200@nccadp.org
SUMMARY:Walking Toward Justice: An Evening of Music\, Poetry\, and Conversation
DESCRIPTION:Join us for the culmination of our 136-mile Walk for Commutation on October 10th\, World Day Against the Death Penalty. Our final stop will be in the sanctuary of Pullen Memorial Baptist Church at 7 p.m. for a program filled with songs\, spoken word and conversation with one another. Singer/ songwriter Britton Buchanan will join us once again sharing several originals. We’ll celebrate the work of our Commutation Campaign thus far and recommit to the work that lies ahead. Please register so we can adequately plan and send you updates! If you would like to walk with the NCCADP team earlier in the day in downtown Raleigh\, please complete this google form.
URL:https://nccadp.org/event/walk-for-commutation-world-day-against-the-death-penalty-in-raleigh/
LOCATION:Pullen Memorial Baptist Church\, 1801 Hillsborough Street\, Raleigh\, NC\, 27605\, United States
ATTACH;FMTTYPE=image/png:https://nccadp.org/wp-content/uploads/2024/09/WFC-graphic-Raleigh-draft-5.png
END:VEVENT
END:VCALENDAR