BEGIN:VCALENDAR
VERSION:2.0
PRODID:-//NC Coalition for Alternatives to the Death Penalty - ECPv6.15.20//NONSGML v1.0//EN
CALSCALE:GREGORIAN
METHOD:PUBLISH
X-WR-CALNAME:NC Coalition for Alternatives to the Death Penalty
X-ORIGINAL-URL:https://nccadp.org
X-WR-CALDESC:Events for NC Coalition for Alternatives to the Death Penalty
REFRESH-INTERVAL;VALUE=DURATION:PT1H
X-Robots-Tag:noindex
X-PUBLISHED-TTL:PT1H
BEGIN:VTIMEZONE
TZID:America/New_York
BEGIN:DAYLIGHT
TZOFFSETFROM:-0500
TZOFFSETTO:-0400
TZNAME:EDT
DTSTART:20230312T070000
END:DAYLIGHT
BEGIN:STANDARD
TZOFFSETFROM:-0400
TZOFFSETTO:-0500
TZNAME:EST
DTSTART:20231105T060000
END:STANDARD
BEGIN:DAYLIGHT
TZOFFSETFROM:-0500
TZOFFSETTO:-0400
TZNAME:EDT
DTSTART:20240310T070000
END:DAYLIGHT
BEGIN:STANDARD
TZOFFSETFROM:-0400
TZOFFSETTO:-0500
TZNAME:EST
DTSTART:20241103T060000
END:STANDARD
BEGIN:DAYLIGHT
TZOFFSETFROM:-0500
TZOFFSETTO:-0400
TZNAME:EDT
DTSTART:20250309T070000
END:DAYLIGHT
BEGIN:STANDARD
TZOFFSETFROM:-0400
TZOFFSETTO:-0500
TZNAME:EST
DTSTART:20251102T060000
END:STANDARD
END:VTIMEZONE
BEGIN:VEVENT
DTSTART;TZID=America/New_York:20241029T180000
DTEND;TZID=America/New_York:20241029T190000
DTSTAMP:20260422T075702
CREATED:20241015T161046Z
LAST-MODIFIED:20241015T162511Z
UID:10000205-1730224800-1730228400@nccadp.org
SUMMARY:NCCADP Monthly Info Session
DESCRIPTION:Join us for an hour-long online conversation to learn more about the state of the death penalty in North Carolina\, the work of NCCADP\, and how you can get involved. If you want to volunteer or simply connect with others across the state interested in abolishing the death penalty\, this is the place to start.
URL:https://nccadp.org/event/nccadp-monthly-info-session-21/
LOCATION:Virtual
ATTACH;FMTTYPE=image/png:https://nccadp.org/wp-content/uploads/2024/10/Monthly-Info-Session-Graphic-October-2024-1.png
END:VEVENT
END:VCALENDAR