BEGIN:VCALENDAR
VERSION:2.0
PRODID:-//NC Coalition for Alternatives to the Death Penalty - ECPv6.15.20//NONSGML v1.0//EN
CALSCALE:GREGORIAN
METHOD:PUBLISH
X-WR-CALNAME:NC Coalition for Alternatives to the Death Penalty
X-ORIGINAL-URL:https://nccadp.org
X-WR-CALDESC:Events for NC Coalition for Alternatives to the Death Penalty
REFRESH-INTERVAL;VALUE=DURATION:PT1H
X-Robots-Tag:noindex
X-PUBLISHED-TTL:PT1H
BEGIN:VTIMEZONE
TZID:America/New_York
BEGIN:DAYLIGHT
TZOFFSETFROM:-0500
TZOFFSETTO:-0400
TZNAME:EDT
DTSTART:20250309T070000
END:DAYLIGHT
BEGIN:STANDARD
TZOFFSETFROM:-0400
TZOFFSETTO:-0500
TZNAME:EST
DTSTART:20251102T060000
END:STANDARD
BEGIN:DAYLIGHT
TZOFFSETFROM:-0500
TZOFFSETTO:-0400
TZNAME:EDT
DTSTART:20260308T070000
END:DAYLIGHT
BEGIN:STANDARD
TZOFFSETFROM:-0400
TZOFFSETTO:-0500
TZNAME:EST
DTSTART:20261101T060000
END:STANDARD
BEGIN:DAYLIGHT
TZOFFSETFROM:-0500
TZOFFSETTO:-0400
TZNAME:EDT
DTSTART:20270314T070000
END:DAYLIGHT
BEGIN:STANDARD
TZOFFSETFROM:-0400
TZOFFSETTO:-0500
TZNAME:EST
DTSTART:20271107T060000
END:STANDARD
END:VTIMEZONE
BEGIN:VEVENT
DTSTART;TZID=America/New_York:20260603T190000
DTEND;TZID=America/New_York:20260603T200000
DTSTAMP:20260420T131602
CREATED:20260226T142845Z
LAST-MODIFIED:20260226T142845Z
UID:10000351-1780513200-1780516800@nccadp.org
SUMMARY:NCCADP Family Survivor Engagement Group
DESCRIPTION:The NCCADP Family Survivor Engagement Group meets the first Wednesday of the month\, 7-8 pm. The group is open to anyone who lives in NC who has lost a loved one to murder\, including state execution\, or has a loved one sentenced to death. People who live out of state who have loved ones who were killed or are sentenced to death in NC are also welcome. The goal of the group is to provide an opportunity and support for those who wish to use their voices of experience to end the death penalty. The group strives to be a supportive community\, but it is not a support group. \nPlease email Noel at noel@nccadp.org for the Zoom link and with any questions.
URL:https://nccadp.org/event/nccadp-family-survivor-engagement-group-2026/2026-06-03/
LOCATION:Zoom\, United States
CATEGORIES:Survivor Family Engagement Group
ATTACH;FMTTYPE=image/jpeg:https://nccadp.org/wp-content/uploads/2023/06/lynda-art-scaled.jpg
END:VEVENT
END:VCALENDAR