BEGIN:VCALENDAR
VERSION:2.0
PRODID:-//NC Coalition for Alternatives to the Death Penalty - ECPv6.15.20//NONSGML v1.0//EN
CALSCALE:GREGORIAN
METHOD:PUBLISH
X-ORIGINAL-URL:https://nccadp.org
X-WR-CALDESC:Events for NC Coalition for Alternatives to the Death Penalty
REFRESH-INTERVAL;VALUE=DURATION:PT1H
X-Robots-Tag:noindex
X-PUBLISHED-TTL:PT1H
BEGIN:VTIMEZONE
TZID:America/New_York
BEGIN:DAYLIGHT
TZOFFSETFROM:-0500
TZOFFSETTO:-0400
TZNAME:EDT
DTSTART:20240310T070000
END:DAYLIGHT
BEGIN:STANDARD
TZOFFSETFROM:-0400
TZOFFSETTO:-0500
TZNAME:EST
DTSTART:20241103T060000
END:STANDARD
BEGIN:DAYLIGHT
TZOFFSETFROM:-0500
TZOFFSETTO:-0400
TZNAME:EDT
DTSTART:20250309T070000
END:DAYLIGHT
BEGIN:STANDARD
TZOFFSETFROM:-0400
TZOFFSETTO:-0500
TZNAME:EST
DTSTART:20251102T060000
END:STANDARD
BEGIN:DAYLIGHT
TZOFFSETFROM:-0500
TZOFFSETTO:-0400
TZNAME:EDT
DTSTART:20260308T070000
END:DAYLIGHT
BEGIN:STANDARD
TZOFFSETFROM:-0400
TZOFFSETTO:-0500
TZNAME:EST
DTSTART:20261101T060000
END:STANDARD
END:VTIMEZONE
BEGIN:VEVENT
DTSTART;TZID=America/New_York:20250624T180000
DTEND;TZID=America/New_York:20250624T193000
DTSTAMP:20260422T003229
CREATED:20250602T162850Z
LAST-MODIFIED:20250602T183602Z
UID:10000237-1750788000-1750793400@nccadp.org
SUMMARY:Fuel for the Journey: A Fundraiser to End the Death Penalty in North Carolina
DESCRIPTION:Join us for an intimate evening to support the work of the the North Carolina Coalition for Alternatives to the Death Penalty. \nEnjoy hors d’oeuvres and drinks\, music by singer-songwriter Britton Buchanan\, and conversation with one another. We’ll celebrate the recent defeat of House Bill 270 and share how your support will directly fuel the next leg of our journey toward death penalty abolition.
URL:https://nccadp.org/event/fuel-for-the-journey-a-fundraiser-to-end-the-death-penalty-in-north-carolina/
CATEGORIES:Fundraiser
ATTACH;FMTTYPE=image/png:https://nccadp.org/wp-content/uploads/2025/06/Fuel-for-the-Journey.png
END:VEVENT
END:VCALENDAR