BEGIN:VCALENDAR
VERSION:2.0
PRODID:-//NC Coalition for Alternatives to the Death Penalty - ECPv6.15.20//NONSGML v1.0//EN
CALSCALE:GREGORIAN
METHOD:PUBLISH
X-WR-CALNAME:NC Coalition for Alternatives to the Death Penalty
X-ORIGINAL-URL:https://nccadp.org
X-WR-CALDESC:Events for NC Coalition for Alternatives to the Death Penalty
REFRESH-INTERVAL;VALUE=DURATION:PT1H
X-Robots-Tag:noindex
X-PUBLISHED-TTL:PT1H
BEGIN:VTIMEZONE
TZID:America/New_York
BEGIN:DAYLIGHT
TZOFFSETFROM:-0500
TZOFFSETTO:-0400
TZNAME:EDT
DTSTART:20250309T070000
END:DAYLIGHT
BEGIN:STANDARD
TZOFFSETFROM:-0400
TZOFFSETTO:-0500
TZNAME:EST
DTSTART:20251102T060000
END:STANDARD
BEGIN:DAYLIGHT
TZOFFSETFROM:-0500
TZOFFSETTO:-0400
TZNAME:EDT
DTSTART:20260308T070000
END:DAYLIGHT
BEGIN:STANDARD
TZOFFSETFROM:-0400
TZOFFSETTO:-0500
TZNAME:EST
DTSTART:20261101T060000
END:STANDARD
BEGIN:DAYLIGHT
TZOFFSETFROM:-0500
TZOFFSETTO:-0400
TZNAME:EDT
DTSTART:20270314T070000
END:DAYLIGHT
BEGIN:STANDARD
TZOFFSETFROM:-0400
TZOFFSETTO:-0500
TZNAME:EST
DTSTART:20271107T060000
END:STANDARD
END:VTIMEZONE
BEGIN:VEVENT
DTSTART;TZID=America/New_York:20260215T154500
DTEND;TZID=America/New_York:20260215T171500
DTSTAMP:20260424T052843
CREATED:20260126T193901Z
LAST-MODIFIED:20260205T203644Z
UID:10000293-1771170300-1771175700@nccadp.org
SUMMARY:Racist Roots Film Screening & Panel Conversation
DESCRIPTION:You are warmly invited to join NCCADP for a screening of Racist Roots\, a 25-minute film that uncovers the deep entanglement between white supremacy\, racial terror lynching\, and North Carolina’s death penalty. \nFollowing the film\, you will hear from two people directly impacted by homicide and the death penalty: \n\nNiconda Garcia\, founder of Change the Rubric\nJean Parks\, a psychologist and longtime death penalty abolitionist.\n\nThis conversation will be moderated by NCCADP’s executive director\, Noel Nickle\, and will include time for Q&A. \nWhere: Ransom Fellowship Hall\, Warren Wilson Presbyterian Church\, 101 Chapel Lane\, Swannanoa\, NC 28778 \nWhen: Sunday\, February 15\, 3:45-5:15 (with a simple chili support to follow) \nThis event is hosted by Swannanoa Valley Friends Meeting and sponsored by the Office of the Chaplain and Spiritual Life at Warren Wilson College. It is free and open to the public. Kindly RSVP by February 12 to assist with meal planning. \nRacist Roots is a project of the Center for Death Penalty Litigation.
URL:https://nccadp.org/event/racist-roots-swannanoa/
LOCATION:Warren Wilson Presbyterian Church\, 101 Chapel Lane\, Swannanoa\, NC\, 28778\, United States
CATEGORIES:Racist Roots Screenings
ATTACH;FMTTYPE=image/png:https://nccadp.org/wp-content/uploads/2026/01/Swannanoa-RR-Graphic-scaled.png
END:VEVENT
END:VCALENDAR